BEGIN:VCALENDAR
VERSION:2.0
PRODID:-//Dieback Working Group - ECPv6.15.20//NONSGML v1.0//EN
CALSCALE:GREGORIAN
METHOD:PUBLISH
X-WR-CALNAME:Dieback Working Group
X-ORIGINAL-URL:https://www.dwg.org.au
X-WR-CALDESC:Events for Dieback Working Group
REFRESH-INTERVAL;VALUE=DURATION:PT1H
X-Robots-Tag:noindex
X-PUBLISHED-TTL:PT1H
BEGIN:VTIMEZONE
TZID:Australia/Perth
BEGIN:STANDARD
TZOFFSETFROM:+0800
TZOFFSETTO:+0800
TZNAME:AWST
DTSTART:20250101T000000
END:STANDARD
END:VTIMEZONE
BEGIN:VEVENT
DTSTART;TZID=Australia/Perth:20260423T080000
DTEND;TZID=Australia/Perth:20260430T170000
DTSTAMP:20260422T091915
CREATED:20260421T010958Z
LAST-MODIFIED:20260421T011806Z
UID:10000091-1776931200-1777568400@www.dwg.org.au
SUMMARY:Info Session - Metham Sodium Treated Gravel (Dieback-free BRM)
DESCRIPTION:In late 2024\, DWG Inc. secured a $2.4 M Australian Government Saving Native Species Threat Innovation grant to research\, trial and promote the application of an innovative soil-fumigation methodology for basic raw materials (BRM) to mitigate the spread of Phytophthora cinnamomi.\nResults from a large-scale trial recently completed in 2025 have demonstrated that this is an exciting new “Dieback mitigation tool”. These 2025 results strongly align with trial results from the proof- of-concept work conducted in 2019.\nWe would like to invite you and any of your colleagues to attend our information session on this innovation and how it can benefit bushland reserves\, conservation on local government-managed lands and industry.  \nDuring the webinar\, we will cover:\n1.	A short film providing project background and why this is so important for biodiversity.\n2.	Considerations for land managers and suppliers\n3.	Your opportunity to be informed of updates\n4.	Q & A   \nPlease join us for one of the following Microsoft Teams webinars for your state: \nNSW webinar: Info Session – Metham Sodium Treated Gravel (Dieback-free BRM)\nJoin on your computer\, mobile app or room device\nClick here to join the meeting\nMeeting ID: 931 215 461 257 5\nPasscode: PA9Zd3\nDownload Teams | Join on the web\nLearn more | Meeting options \nVIC webinar: Info Session – Metham Sodium Treated Gravel (Dieback-free BRM)\nJoin on your computer\, mobile app or room device\nClick here to join the meeting\nMeeting ID: 935 435 479 479 0\nPasscode: bB2Rk9\nDownload Teams | Join on the web\nLearn more | Meeting options \nWA webinar: Info Session – Metham Sodium Treated Gravel (Dieback-free BRM)\nMicrosoft Teams meeting\nJoin on your computer\, mobile app or room device\nClick here to join the meeting\nMeeting ID: 938 587 044 288 7\nPasscode: YQ9kU3\nDownload Teams | Join on the web\nLearn more | Meeting options \nQLD webinar: Info Session – Metham Sodium Treated Gravel (Dieback-free BRM)\nJoin on your computer\, mobile app or room device\nClick here to join the meeting\nMeeting ID: 933 368 270 443 7\nPasscode: yA29jr\nDownload Teams | Join on the web\nLearn more | Meeting options \nAny questions\, please reach out to Pip Soulsby\, Senior Project Manager – pip.soulsby@dwg.org.au
URL:https://www.dwg.org.au/event/info-session-metham-sodium-treated-gravel-dieback-free-brm/
LOCATION:Online via Microsoft Teams
CATEGORIES:Webinar
ATTACH;FMTTYPE=image/jpeg:https://www.dwg.org.au/wp-content/uploads/sites/75/2026/04/Info-Session-Metham-Sodium-Treated-Gravel-Dieback-Free-Basic-Raw-Materials.jpg
END:VEVENT
END:VCALENDAR